Workbook
Name DriverBase: Model!$D$7:$D$13
Name DriverForecast: Model!$C$19:$N$25
Name Effects: Model!$C$7:$C$13
Name Intercept: Model!$C$14
Name TargetBase: Model!$D$14

Sheet Actuals
B1: Actuals
B2: Gross Margin | I2: Actual | J2: Actual | K2: Actual | L2: Actual | M2: Actual | N2: Actual | O2: Actual | P2: Actual | Q2: Actual | R2: Actual | S2: Actual | T2: Actual | U2: Actual | V2: Actual | W2: Actual | X2: Actual | Y2: Actual | Z2: Actual | AA2: Actual | AB2: Actual | AC2: Actual | AD2: Actual | AE2: Actual | AF2: Actual | AG2: Actual | AH2: Actual | AI2: Actual | AJ2: Actual | AK2: Actual | AL2: Actual | AM2: Actual | AN2: Actual | AO2: Actual | AP2: Actual | AQ2: Actual | AR2: Actual | AS2: Actual | AT2: Actual | AU2: Actual
B3: Add Actuals | I3: 2024 | J3: 2024 | K3: 2024 | L3: 2024 | M3: 2024 | N3: 2024 | O3: 2024 | P3: 2024 | Q3: 2024 | R3: 2024 | S3: 2024 | T3: 2024 | U3: =$I$3+1 -> 2025 | V3: =$I$3+1 -> 2025 | W3: =$I$3+1 -> 2025 | X3: =$I$3+1 -> 2025 | Y3: =$I$3+1 -> 2025 | Z3: =$I$3+1 -> 2025 | AA3: =$I$3+1 -> 2025 | AB3: =$I$3+1 -> 2025 | ... AF3: =$I$3+1 -> 2025 | AG3: =$V$3+1 -> 2026 | AH3: =$V$3+1 -> 2026 | AI3: =$V$3+1 -> 2026 | AJ3: =$V$3+1 -> 2026 | AK3: =$V$3+1 -> 2026 | AL3: =$V$3+1 -> 2026 | AM3: =$V$3+1 -> 2026 | AN3: =$V$3+1 -> 2026 | ... AR3: =$V$3+1 -> 2026 | AS3: =$U$3 -> 2025 | AT3: =$AF$3 -> 2025 | AU3: =$AR$3 -> 2026
I4: Jan | J4: Feb | K4: Mar | L4: Apr | M4: May | N4: Jun | O4: Jul | P4: Aug | Q4: Sep | R4: Oct | S4: Nov | T4: Dec | U4: Jan | V4: Feb | W4: Mar | X4: Apr | Y4: May | Z4: Jun | AA4: Jul | AB4: Aug | AC4: Sep | AD4: Oct | AE4: Nov | AF4: Dec | AG4: Jan | AH4: Feb | AI4: Mar | AJ4: Apr | AK4: May | AL4: Jun | AM4: Jul | AN4: Aug | AO4: Sep | AP4: Oct | AQ4: Nov | AR4: Dec | AS4: Full Year | AT4: Full Year | AU4: Full Year
B6: Drivers | C6: Unit | D6: Low limit | E6: High limit | F6: Hist. Range | G6: Aggregation
B7: Units sold | D7: -0.08 | E7: 0.08 | F7: =IF(COUNT(I7:AR7)=0,"",TEXT(MIN(I7:AR7)/AVERAGE(AG7:AR7)-1,"0%")&" to "&TEXT(MAX(I7:AR7)/AVERAGE(AG7:AR7)-1,"+0%")) -> -28% to +12% | G7: Sum | H7: TRUE | I7: 1299 | J7: 1380 | K7: 1632 | L7: 1732 | M7: 1750 | N7: 1738 | O7: 1572 | P7: 1556 | Q7: 1772 | R7: 1761 | S7: 1685 | T7: 1372 | U7: 1399 | V7: 1460 | W7: 1704 | X7: 1833 | Y7: 1875 | Z7: 1805 | AA7: 1641 | AB7: 1640 | AC7: 1847 | AD7: 1873 | AE7: 1718 | AF7: 1413 | AG7: 1470 | AH7: 1611 | AI7: 1845 | AJ7: 1915 | AK7: 1985 | AL7: 1970 | AM7: 1709 | AN7: 1760 | AO7: 1938 | AP7: 2030 | AQ7: 1882 | AR7: 1552 | AS7: =SUM(I7:T7) -> 19249 | AT7: =SUM(U7:AF7) -> 20208 | AU7: =SUM(AG7:AR7) -> 21667
B8: Average price | D8: -0.05 | E8: 0.05 | F8: =IF(COUNT(I8:AR8)=0,"",TEXT(MIN(I8:AR8)/AVERAGE(AG8:AR8)-1,"0%")&" to "&TEXT(MAX(I8:AR8)/AVERAGE(AG8:AR8)-1,"+0%")) -> -5% to +1% | G8: Average | H8: TRUE | I8: 1177 | J8: 1180 | K8: 1183 | L8: 1179 | M8: 1176 | N8: 1179 | O8: 1179 | P8: 1182 | Q8: 1178 | R8: 1180 | S8: 1178 | T8: 1184 | U8: 1185 | V8: 1180 | W8: 1208 | X8: 1214 | Y8: 1214 | Z8: 1210 | AA8: 1211 | AB8: 1206 | AC8: 1209 | AD8: 1207 | AE8: 1209 | AF8: 1209 | AG8: 1210 | AH8: 1207 | AI8: 1235 | AJ8: 1239 | AK8: 1237 | AL8: 1242 | AM8: 1238 | AN8: 1245 | AO8: 1237 | AP8: 1243 | AQ8: 1240 | AR8: 1239 | AS8: =AVERAGE(I8:T8) -> 1179.5833 | AT8: =AVERAGE(U8:AF8) -> 1205.1667 | AU8: =AVERAGE(AG8:AR8) -> 1234.3333
B9: Unit cost | D9: -0.06 | E9: 0.04 | F9: =IF(COUNT(I9:AR9)=0,"",TEXT(MIN(I9:AR9)/AVERAGE(AG9:AR9)-1,"0%")&" to "&TEXT(MAX(I9:AR9)/AVERAGE(AG9:AR9)-1,"+0%")) -> -7% to +1% | G9: Average | H9: TRUE | I9: 702 | J9: 697 | K9: 699 | L9: 711 | M9: 705 | N9: 709 | O9: 708 | P9: 709 | Q9: 719 | R9: 710 | S9: 720 | T9: 719 | U9: 725 | V9: 719 | W9: 723 | X9: 730 | Y9: 733 | Z9: 731 | AA9: 737 | AB9: 738 | AC9: 731 | AD9: 735 | AE9: 733 | AF9: 739 | AG9: 738 | AH9: 739 | AI9: 747 | AJ9: 744 | AK9: 754 | AL9: 749 | AM9: 751 | AN9: 761 | AO9: 759 | AP9: 754 | AQ9: 757 | AR9: 762 | AS9: =AVERAGE(I9:T9) -> 709 | AT9: =AVERAGE(U9:AF9) -> 731.16667 | AU9: =AVERAGE(AG9:AR9) -> 751.25
B10: Marketing spend | F10: =IF(COUNT(I10:AR10)=0,"",TEXT(MIN(I10:AR10)/AVERAGE(AG10:AR10)-1,"0%")&" to "&TEXT(MAX(I10:AR10)/AVERAGE(AG10:AR10)-1,"+0%")) -> -32% to +29% | G10: Sum | H10: FALSE | I10: 103500 | J10: 112500 | K10: 147400 | L10: 123400 | M10: 124100 | N10: 113600 | O10: 105700 | P10: 112800 | Q10: 153600 | R10: 140800 | S10: 128500 | T10: 104000 | U10: 115300 | V10: 121400 | W10: 168500 | X10: 142600 | Y10: 131200 | Z10: 126500 | AA10: 117000 | AB10: 125600 | AC10: 174300 | AD10: 149200 | AE10: 143700 | AF10: 110800 | AG10: 125400 | AH10: 140400 | AI10: 186500 | AJ10: 156000 | AK10: 151700 | AL10: 141300 | AM10: 128800 | AN10: 134700 | AO10: 194800 | AP10: 170300 | AQ10: 157300 | AR10: 128000 | AS10: =SUM(I10:T10) -> 1469900 | AT10: =SUM(U10:AF10) -> 1626100 | AU10: =SUM(AG10:AR10) -> 1815200
B11: Headcount | F11: =IF(COUNT(I11:AR11)=0,"",TEXT(MIN(I11:AR11)/AVERAGE(AG11:AR11)-1,"0%")&" to "&TEXT(MAX(I11:AR11)/AVERAGE(AG11:AR11)-1,"+0%")) -> -13% to +0% | G11: Average | H11: FALSE | I11: 52 | J11: 52 | K11: 53 | L11: 53 | M11: 54 | N11: 54 | O11: 54 | P11: 55 | Q11: 55 | R11: 55 | S11: 56 | T11: 56 | U11: 56 | V11: 56 | W11: 57 | X11: 57 | Y11: 57 | Z11: 58 | AA11: 58 | AB11: 58 | AC11: 58 | AD11: 59 | AE11: 59 | AF11: 59 | AG11: 59 | AH11: 59 | AI11: 59 | AJ11: 60 | AK11: 60 | AL11: 60 | AM11: 60 | AN11: 60 | AO11: 60 | AP11: 60 | AQ11: 60 | AR11: 60 | AS11: =AVERAGE(I11:T11) -> 54.083333 | AT11: =AVERAGE(U11:AF11) -> 57.666667 | AU11: =AVERAGE(AG11:AR11) -> 59.75
B12: Cost per FTE | F12: =IF(COUNT(I12:AR12)=0,"",TEXT(MIN(I12:AR12)/AVERAGE(AG12:AR12)-1,"0%")&" to "&TEXT(MAX(I12:AR12)/AVERAGE(AG12:AR12)-1,"+0%")) -> -7% to +1% | G12: Average | H12: FALSE | I12: 7510 | J12: 7440 | K12: 7520 | L12: 7550 | M12: 7450 | N12: 7430 | O12: 7490 | P12: 7500 | Q12: 7490 | R12: 7540 | S12: 7510 | T12: 7430 | U12: 7730 | V12: 7680 | W12: 7680 | X12: 7720 | Y12: 7700 | Z12: 7670 | AA12: 7750 | AB12: 7810 | AC12: 7680 | AD12: 7670 | AE12: 7770 | AF12: 7800 | AG12: 7970 | AH12: 8000 | AI12: 8060 | AJ12: 8010 | AK12: 8060 | AL12: 7980 | AM12: 8070 | AN12: 7960 | AO12: 8050 | AP12: 8070 | AQ12: 7970 | AR12: 8040 | AS12: =AVERAGE(I12:T12) -> 7488.3333 | AT12: =AVERAGE(U12:AF12) -> 7721.6667 | AU12: =AVERAGE(AG12:AR12) -> 8020
B13: Churn Rate | F13: =IF(COUNT(I13:AR13)=0,"",TEXT(MIN(I13:AR13)/AVERAGE(AG13:AR13)-1,"0%")&" to "&TEXT(MAX(I13:AR13)/AVERAGE(AG13:AR13)-1,"+0%")) -> -16% to +20% | G13: Average | H13: FALSE | I13: 0.0225 | J13: 0.023 | K13: 0.0192 | L13: 0.0198 | M13: 0.019 | N13: 0.0197 | O13: 0.0161 | P13: 0.0179 | Q13: 0.0198 | R13: 0.0186 | S13: 0.0196 | T13: 0.0205 | U13: 0.0219 | V13: 0.021 | W13: 0.0182 | X13: 0.0183 | Y13: 0.0161 | Z13: 0.0169 | AA13: 0.0171 | AB13: 0.0197 | AC13: 0.0191 | AD13: 0.0166 | AE13: 0.0192 | AF13: 0.0206 | AG13: 0.0225 | AH13: 0.0205 | AI13: 0.016 | AJ13: 0.0195 | AK13: 0.0168 | AL13: 0.0169 | AM13: 0.0199 | AN13: 0.0195 | AO13: 0.0172 | AP13: 0.0198 | AQ13: 0.0182 | AR13: 0.0227 | AS13: =AVERAGE(I13:T13) -> 0.019641667 | AT13: =AVERAGE(U13:AF13) -> 0.018725 | AU13: =AVERAGE(AG13:AR13) -> 0.019125
B15: Target | C15: Unit | D15: Low limit | E15: High limit | F15: Hist. Range | G15: Aggregation
B16: Gross Margin | I16: 617025 | J16: 666540 | K16: 789888 | L16: 810576 | M16: 824250 | N16: 816860 | O16: 740412 | P16: 735988 | Q16: 813348 | R16: 827670 | S16: 771730 | T16: 637980 | U16: 643540 | V16: 673060 | W16: 826440 | X16: 887172 | Y16: 901875 | Z16: 864595 | AA16: 777834 | AB16: 767520 | AC16: 882866 | AD16: 884056 | AE16: 817768 | AF16: 664110 | AG16: 693840 | AH16: 753948 | AI16: 900360 | AJ16: 947925 | AK16: 958755 | AL16: 971210 | AM16: 832283 | AN16: 851840 | AO16: 926364 | AP16: 992670 | AQ16: 909006 | AR16: 740304 | AS16: =SUM(I16:T16) -> 9052267 | AT16: =SUM(U16:AF16) -> 9590836 | AU16: =SUM(AG16:AR16) -> 10478505
B17: Product Revenue | I17: 1244689 | J17: 1350483 | K17: 1577778 | L17: 1656703 | M17: 1667119 | N17: 1672475 | O17: 1512950 | P17: 1491842 | Q17: 1722110 | R17: 1715902 | S17: 1608154 | T17: 1346836 | U17: 1373654 | V17: 1407693 | W17: 1671778 | X17: 1840723 | Y17: 1847913 | Z17: 1809183 | AA17: 1631340 | AB17: 1609071 | AC17: 1839527 | AD17: 1833371 | AE17: 1699281 | AF17: 1411968 | AG17: 1442729 | AH17: 1594221 | AI17: 1878989 | AJ17: 1959269 | AK17: 1996240 | AL17: 2004034 | AM17: 1755051 | AN17: 1806842 | AO17: 1961178 | AP17: 2093745 | AQ17: 1913586 | AR17: 1568044 | AS17: =SUM(I17:T17) -> 18567041 | AT17: =SUM(U17:AF17) -> 19975502 | AU17: =SUM(AG17:AR17) -> 21973928
B18: Service Revenue | I18: 284234 | J18: 277917 | K18: 352878 | L18: 385325 | M18: 390881 | N18: 376627 | O18: 340438 | P18: 347350 | Q18: 365306 | R18: 362078 | S18: 376776 | T18: 277612 | U18: 284161 | V18: 315107 | W18: 386654 | X18: 384539 | Y18: 428337 | Z18: 374867 | AA18: 355911 | AB18: 368769 | AC18: 393496 | AD18: 427340 | AE18: 377781 | AF18: 296349 | AG18: 335971 | AH18: 350256 | AI18: 399586 | AJ18: 413416 | AK18: 459205 | AL18: 442706 | AM18: 360691 | AN18: 384358 | AO18: 436128 | AP18: 429545 | AQ18: 420094 | AR18: 354884 | AS18: =SUM(I18:T18) -> 4137422 | AT18: =SUM(U18:AF18) -> 4393311 | AU18: =SUM(AG18:AR18) -> 4786840
B19: Materials | I19: 573419 | J19: 603928 | K19: 699655 | L19: 758608 | M19: 769316 | N19: 771840 | O19: 689627 | P19: 694469 | Q19: 798710 | R19: 771846 | S19: 741186 | T19: 605623 | U19: 637818 | V19: 651357 | W19: 769956 | X19: 817215 | Y19: 847735 | Z19: 813839 | AA19: 745302 | AB19: 740188 | AC19: 850511 | AD19: 866926 | AE19: 774147 | AF19: 646482 | AG19: 681641 | AH19: 746186 | AI19: 866892 | AJ19: 872142 | AK19: 938267 | AL19: 929563 | AM19: 794552 | AN19: 829842 | AO19: 901585 | AP19: 963060 | AQ19: 878696 | AR19: 739897 | AS19: =SUM(I19:T19) -> 8478227 | AT19: =SUM(U19:AF19) -> 9161476 | AU19: =SUM(AG19:AR19) -> 10142323
B20: Freight and duties | I20: 102047 | J20: 103869 | K20: 121443 | L20: 136729 | M20: 133713 | N20: 135309 | O20: 124705 | P20: 116089 | Q20: 134007 | R20: 138516 | S20: 129581 | T20: 111034 | U20: 109992 | V20: 118365 | W20: 139181 | X20: 153155 | Y20: 152704 | Z20: 150737 | AA20: 130820 | AB20: 128885 | AC20: 143947 | AD20: 151894 | AE20: 139706 | AF20: 114046 | AG20: 114265 | AH20: 126560 | AI20: 153401 | AJ20: 155791 | AK20: 161565 | AL20: 167506 | AM20: 141029 | AN20: 144531 | AO20: 159994 | AP20: 170312 | AQ20: 150861 | AR20: 134433 | AS20: =SUM(I20:T20) -> 1487042 | AT20: =SUM(U20:AF20) -> 1633432 | AU20: =SUM(AG20:AR20) -> 1780248
B21: Direct labour | I21: 236432 | J21: 254063 | K21: 319670 | L21: 336115 | M21: 330721 | N21: 325093 | O21: 298644 | P21: 292646 | Q21: 341351 | R21: 339948 | S21: 342433 | T21: 269811 | U21: 266465 | V21: 280018 | W21: 322855 | X21: 367720 | Y21: 373936 | Z21: 354879 | AA21: 333295 | AB21: 341247 | AC21: 355699 | AD21: 357835 | AE21: 345441 | AF21: 283679 | AG21: 288954 | AH21: 317783 | AI21: 357922 | AJ21: 396827 | AK21: 396858 | AL21: 378461 | AM21: 347878 | AN21: 364987 | AO21: 409363 | AP21: 397248 | AQ21: 395117 | AR21: 308294 | AS21: =SUM(I21:T21) -> 3686927 | AT21: =SUM(U21:AF21) -> 3983069 | AU21: =SUM(AG21:AR21) -> 4359692

Sheet Frame
B1: Frame
B5: Date | C5: 46287
B6: Prepared by | C6: Adam (mandate from Michael, board prep session)
B7: AI detail | C7: Claude in Excel
B9: Strategic goal
B10: Gross margin is the number the board wants to see move. We finished FY2026 at about $10.5M and leadership has committed to just over $12M in FY2027, a 15% lift. The job is not to find the most aggressive path to that number but the one that needs the least change to how we run the business, because every lever has a cost somewhere else. The output has to be walkable in ten minutes: which levers, how far, by when, and what breaks if we are wrong.
B12: Constraints and risks
B13: Only three levers are on the table: volume, average price and unit cost. Headcount is fixed in both directions and cost per FTE cannot move; marketing is already committed for FY2027 and is treated as fixed; churn sits with Sarah and is not treated as a gross margin driver. Price can move at most 5% because roughly half of contracts renew mid-year at negotiated rates that will not be reopened. Procurement believes unit cost can come down 6% at best, but the supplier has signalled an increase, so it could as easily go up 4%. Ops advises that volume growth above 8% strains fulfilment, and we would not plan on losing more than 8% either.
B15: Business context
B16: FY2026 closed with gross margin of $10.48M on product and service revenue of $26.76M, against materials, freight and direct labour of $16.28M. Over the last three years units sold grew from 19.2k to 21.7k, average price from $1,180 to $1,234, and unit cost from $709 to $751 - so cost inflation has been running close to price. The plan year is 2027. Scenarios will be built on the gross margin dollar row; the board's gross margin percentage will be reported alongside it, not modelled directly.
B18: Target account | C18: =Actuals!B16 -> Gross Margin
B19: Direction | C19: Increase
B20: Size of change | C20: 0.15
B21: Basis | C21: Last 12 months actual (FY2026)
B22: Basis value | C22: =SUM(Actuals!AG16:AR16) -> 10478505
B23: Target value (full year) | C23: =C22*(1+C20) -> 12050281
B24: Plan year | C24: =Actuals!AU3+1 -> 2027
B25: Levers allowed | C25: Units sold, Average price, Unit cost
B26: Levers excluded and why | C26: Marketing spend - committed for FY2027; Headcount - off the table both directions; Cost per FTE - not to be touched; Churn rate - owned by Sarah, not treated as a gross margin driver
B27: Guardrail 1 | C27: Units sold: -8% to +8% - above 8% growth strains fulfilment (Ops); no plan below -8%
B28: Guardrail 2 | C28: Average price: -5% to +5% - about half of contracts renew mid-year at negotiated rates and will not be reopened
B29: Guardrail 3 | C29: Unit cost: -6% to +4% - procurement best case -6%, supplier has signalled an increase of up to +4%
B30: Risks to test | C30: 1. Demand softens 5% (units -5% against plan) 2. Supplier cost increase lands in Q2 (unit cost steps up from April) 3. Price frozen at 0% - the board's first question
B31: Success measure | C31: The scenario that reaches >= $12.05M full-year gross margin with the smallest total movement across the three levers, and that still holds up under the demand-softening and Q2 supplier-increase stress tests.

Sheet Model
B1: Model
B4: Driver effects
B6: Driver | C6: Effect (% target per 1% driver) | D6: Base (last 12 mo avg) | E6: Low limit | F6: High limit
B7: {=IFERROR(_xlfn._xlws.FILTER(Actuals!$B$7:$B$13,Actuals!$H$7:$H$13),"No Drivers Selected")} -> Units sold | C7: {=_xlfn._xlws.PY(0,0,Actuals!I7:AR13,Actuals!H7:H13,Actuals!D7:E13,Actuals!I16:AR16)} -> 0.98197 | D7: 1805.5833 | E7: -0.08 | F7: 0.08
B8: Average price | C8: 2.41549 | D8: 1234.3333 | E8: -0.05 | F8: 0.05
B9: Unit cost | C9: -1.44013 | D9: 751.25 | E9: -0.06 | F9: 0.04
B14: Intercept / Target base / Fit / Typical error | C14: -0.000129 | D14: 873208.75 | E14: 0.9998 | F14: 0.0013
B15: Model chosen | C15: Linear regression
B17: Baseline driver forecast, plan year
B18: Driver | C18: Jan | D18: Feb | E18: Mar | F18: Apr | G18: May | H18: Jun | I18: Jul | J18: Aug | K18: Sep | L18: Oct | M18: Nov | N18: Dec | O18: Method | P18: Backtest WAPE
B19: {=IFERROR(_xlfn._xlws.FILTER(Actuals!$B$7:$B$13,Actuals!$H$7:$H$13),"No Drivers Selected")} -> Units sold | C19: {=_xlfn._xlws.PY(1,0,Actuals!I7:AR13,Actuals!H7:H13)} -> 1576.1327 | D19: 1727.3128 | E19: 1978.2074 | F19: 2053.2613 | G19: 2128.3153 | H19: 2112.2323 | I19: 1832.3883 | J19: 1887.0705 | K19: 2077.9219 | L19: 2176.5642 | M19: 2017.8788 | N19: 1664.053 | O19: Seasonal growth | P19: 0.0231
B20: Average price | C20: 1239.2836 | D20: 1236.211 | E20: 1264.8887 | F20: 1268.9855 | G20: 1266.9371 | H20: 1272.0581 | I20: 1267.9613 | J20: 1275.1307 | K20: 1266.9371 | L20: 1273.0823 | M20: 1270.0097 | N20: 1268.9855 | O20: Seasonal growth | P20: 0.0032
B21: Unit cost | C21: 762.97937 | D21: 764.73651 | E21: 766.49365 | F21: 768.25079 | G21: 770.00794 | H21: 771.76508 | I21: 773.52222 | J21: 775.27937 | K21: 777.03651 | L21: 778.79365 | M21: 780.55079 | N21: 782.30794 | O21: Linear trend | P21: 0.0044
B27: What this model is
B28: A unit-free linear regression linking the three included drivers - units sold, average price and unit cost - to monthly gross margin dollars. Every input is expressed as a % change from its own last-12-month average, so the effects read directly as elasticities: a 1% increase in units sold raises gross margin about 0.98%, a 1% increase in average price raises it about 2.42%, and a 1% increase in unit cost lowers it about 1.44%. All three signs are economically correct. The baseline driver forecast above is the do-nothing path: units and price by seasonal growth, unit cost by linear trend, each method picked by backtesting the last 12 months.
B30: How good it is
B31: The fit is R-squared 0.9998 with a typical monthly error of 0.13%, about $1.1k on an average month of $873k. That is unusually tight because gross margin is close to an arithmetic consequence of volume, price and unit cost rather than a noisy behavioural relationship. Backtest error on the driver forecasts was 2.3% for units sold, 0.3% for average price and 0.4% for unit cost.
B33: When to trust it
B34: Inside the guardrails set on Actuals - units -8% to +8%, price -5% to +5%, unit cost -6% to +4% - the model is interpolating across ranges history has already covered, and should be reliable to within a low single-digit percentage. Push a driver well beyond those limits and the straight-line effects stop holding, because volume and price interact in the real business in ways a linear fit cannot see.
B36: What it cannot do
B37: Two limits matter for the board conversation. First, the drivers are treated as independent: the model will happily raise price 5% and volume 8% at the same time and will not dock you for the demand that a price rise would cost. Any scenario that leans on both at once should be read as an upper bound. Second, the effects are historical averages over 36 months; they describe the mix and cost structure we have had, not a restructured one. Excluded levers - marketing, headcount, cost per FTE and churn - sit inside the intercept, which means their historical contribution is held flat, exactly as the mandate requires.

Sheet Base
B1: Scenario Modeler
B2: =Actuals!$B$16 -> Gross Margin | D2: Actual | E2: Actual | F2: Actual | G2: Actual | H2: Actual | I2: Actual | J2: Actual | K2: Actual | L2: Actual | M2: Actual | N2: Actual | O2: Actual | P2: Actual
B3: Set values then run /vena-scenario-model | D3: =Actuals!$AU$3 -> 2026 | E3: =Actuals!$AU$3 -> 2026 | F3: =Actuals!$AU$3 -> 2026 | G3: =Actuals!$AU$3 -> 2026 | H3: =Actuals!$AU$3 -> 2026 | I3: =Actuals!$AU$3 -> 2026 | J3: =Actuals!$AU$3 -> 2026 | K3: =Actuals!$AU$3 -> 2026 | ... O3: =Actuals!$AU$3 -> 2026 | P3: =$O$3 -> 2026 | Q3: =$D$3+1 -> 2027 | R3: =$D$3+1 -> 2027 | S3: =$D$3+1 -> 2027 | T3: =$D$3+1 -> 2027 | U3: =$D$3+1 -> 2027 | V3: =$D$3+1 -> 2027 | W3: =$D$3+1 -> 2027 | X3: =$D$3+1 -> 2027 | ... AB3: =$D$3+1 -> 2027 | AC3: =$AB$3 -> 2027
D4: Jan | E4: Feb | F4: Mar | G4: Apr | H4: May | I4: Jun | J4: Jul | K4: Aug | L4: Sep | M4: Oct | N4: Nov | O4: Dec | P4: Full Year | Q4: Jan | R4: Feb | S4: Mar | T4: Apr | U4: May | V4: Jun | W4: Jul | X4: Aug | Y4: Sep | Z4: Oct | AA4: Nov | AB4: Dec | AC4: Full Year | AD4: Comments
B6: Drivers
B7: {=IFERROR(_xlfn._xlws.FILTER(Actuals!$B$7:$B$13,Actuals!$H$7:$H$13),"No Drivers Selected")} -> Units sold | D7: =IFERROR(_xlfn.XLOOKUP($B7,Actuals!$B$7:$B$13,Actuals!AG$7:AG$13,""),"") -> 1470 | E7: =IFERROR(_xlfn.XLOOKUP($B7,Actuals!$B$7:$B$13,Actuals!AH$7:AH$13,""),"") -> 1611 | F7: =IFERROR(_xlfn.XLOOKUP($B7,Actuals!$B$7:$B$13,Actuals!AI$7:AI$13,""),"") -> 1845 | G7: =IFERROR(_xlfn.XLOOKUP($B7,Actuals!$B$7:$B$13,Actuals!AJ$7:AJ$13,""),"") -> 1915 | H7: =IFERROR(_xlfn.XLOOKUP($B7,Actuals!$B$7:$B$13,Actuals!AK$7:AK$13,""),"") -> 1985 | I7: =IFERROR(_xlfn.XLOOKUP($B7,Actuals!$B$7:$B$13,Actuals!AL$7:AL$13,""),"") -> 1970 | J7: =IFERROR(_xlfn.XLOOKUP($B7,Actuals!$B$7:$B$13,Actuals!AM$7:AM$13,""),"") -> 1709 | K7: =IFERROR(_xlfn.XLOOKUP($B7,Actuals!$B$7:$B$13,Actuals!AN$7:AN$13,""),"") -> 1760 | ... O7: =IFERROR(_xlfn.XLOOKUP($B7,Actuals!$B$7:$B$13,Actuals!AR$7:AR$13,""),"") -> 1552 | P7: =IF(_xlfn.XLOOKUP($B7,Actuals!$B$7:$B$13,Actuals!$G$7:$G$13,"")="Average",AVERAGE(D7:O7),SUM(D7:O7)) -> 21667 | Q7: =IFERROR(IF(Model!C19="","",Model!C19),"") -> 1576.1327 | R7: =IFERROR(IF(Model!D19="","",Model!D19),"") -> 1727.3128 | S7: =IFERROR(IF(Model!E19="","",Model!E19),"") -> 1978.2074 | T7: =IFERROR(IF(Model!F19="","",Model!F19),"") -> 2053.2613 | U7: =IFERROR(IF(Model!G19="","",Model!G19),"") -> 2128.3153 | V7: =IFERROR(IF(Model!H19="","",Model!H19),"") -> 2112.2323 | W7: =IFERROR(IF(Model!I19="","",Model!I19),"") -> 1832.3883 | X7: =IFERROR(IF(Model!J19="","",Model!J19),"") -> 1887.0705 | ... AB7: =IFERROR(IF(Model!N19="","",Model!N19),"") -> 1664.053 | AC7: =IF($B7="","",IF(_xlfn.XLOOKUP($B7,Actuals!$B$7:$B$13,Actuals!$G$7:$G$13,"")="Average",AVERAGE(Q7:AB7),SUM(Q7:AB7))) -> 23231.339
B8: Average price | D8: =IFERROR(_xlfn.XLOOKUP($B8,Actuals!$B$7:$B$13,Actuals!AG$7:AG$13,""),"") -> 1210 | E8: =IFERROR(_xlfn.XLOOKUP($B8,Actuals!$B$7:$B$13,Actuals!AH$7:AH$13,""),"") -> 1207 | F8: =IFERROR(_xlfn.XLOOKUP($B8,Actuals!$B$7:$B$13,Actuals!AI$7:AI$13,""),"") -> 1235 | G8: =IFERROR(_xlfn.XLOOKUP($B8,Actuals!$B$7:$B$13,Actuals!AJ$7:AJ$13,""),"") -> 1239 | H8: =IFERROR(_xlfn.XLOOKUP($B8,Actuals!$B$7:$B$13,Actuals!AK$7:AK$13,""),"") -> 1237 | I8: =IFERROR(_xlfn.XLOOKUP($B8,Actuals!$B$7:$B$13,Actuals!AL$7:AL$13,""),"") -> 1242 | J8: =IFERROR(_xlfn.XLOOKUP($B8,Actuals!$B$7:$B$13,Actuals!AM$7:AM$13,""),"") -> 1238 | K8: =IFERROR(_xlfn.XLOOKUP($B8,Actuals!$B$7:$B$13,Actuals!AN$7:AN$13,""),"") -> 1245 | ... O8: =IFERROR(_xlfn.XLOOKUP($B8,Actuals!$B$7:$B$13,Actuals!AR$7:AR$13,""),"") -> 1239 | P8: =IF(_xlfn.XLOOKUP($B8,Actuals!$B$7:$B$13,Actuals!$G$7:$G$13,"")="Average",AVERAGE(D8:O8),SUM(D8:O8)) -> 1234.3333 | Q8: =IFERROR(IF(Model!C20="","",Model!C20),"") -> 1239.2836 | R8: =IFERROR(IF(Model!D20="","",Model!D20),"") -> 1236.211 | S8: =IFERROR(IF(Model!E20="","",Model!E20),"") -> 1264.8887 | T8: =IFERROR(IF(Model!F20="","",Model!F20),"") -> 1268.9855 | U8: =IFERROR(IF(Model!G20="","",Model!G20),"") -> 1266.9371 | V8: =IFERROR(IF(Model!H20="","",Model!H20),"") -> 1272.0581 | W8: =IFERROR(IF(Model!I20="","",Model!I20),"") -> 1267.9613 | X8: =IFERROR(IF(Model!J20="","",Model!J20),"") -> 1275.1307 | ... AB8: =IFERROR(IF(Model!N20="","",Model!N20),"") -> 1268.9855 | AC8: =IF($B8="","",IF(_xlfn.XLOOKUP($B8,Actuals!$B$7:$B$13,Actuals!$G$7:$G$13,"")="Average",AVERAGE(Q8:AB8),SUM(Q8:AB8))) -> 1264.2059
B9: Unit cost | D9: =IFERROR(_xlfn.XLOOKUP($B9,Actuals!$B$7:$B$13,Actuals!AG$7:AG$13,""),"") -> 738 | E9: =IFERROR(_xlfn.XLOOKUP($B9,Actuals!$B$7:$B$13,Actuals!AH$7:AH$13,""),"") -> 739 | F9: =IFERROR(_xlfn.XLOOKUP($B9,Actuals!$B$7:$B$13,Actuals!AI$7:AI$13,""),"") -> 747 | G9: =IFERROR(_xlfn.XLOOKUP($B9,Actuals!$B$7:$B$13,Actuals!AJ$7:AJ$13,""),"") -> 744 | H9: =IFERROR(_xlfn.XLOOKUP($B9,Actuals!$B$7:$B$13,Actuals!AK$7:AK$13,""),"") -> 754 | I9: =IFERROR(_xlfn.XLOOKUP($B9,Actuals!$B$7:$B$13,Actuals!AL$7:AL$13,""),"") -> 749 | J9: =IFERROR(_xlfn.XLOOKUP($B9,Actuals!$B$7:$B$13,Actuals!AM$7:AM$13,""),"") -> 751 | K9: =IFERROR(_xlfn.XLOOKUP($B9,Actuals!$B$7:$B$13,Actuals!AN$7:AN$13,""),"") -> 761 | ... O9: =IFERROR(_xlfn.XLOOKUP($B9,Actuals!$B$7:$B$13,Actuals!AR$7:AR$13,""),"") -> 762 | P9: =IF(_xlfn.XLOOKUP($B9,Actuals!$B$7:$B$13,Actuals!$G$7:$G$13,"")="Average",AVERAGE(D9:O9),SUM(D9:O9)) -> 751.25 | Q9: =IFERROR(IF(Model!C21="","",Model!C21),"") -> 762.97937 | R9: =IFERROR(IF(Model!D21="","",Model!D21),"") -> 764.73651 | S9: =IFERROR(IF(Model!E21="","",Model!E21),"") -> 766.49365 | T9: =IFERROR(IF(Model!F21="","",Model!F21),"") -> 768.25079 | U9: =IFERROR(IF(Model!G21="","",Model!G21),"") -> 770.00794 | V9: =IFERROR(IF(Model!H21="","",Model!H21),"") -> 771.76508 | W9: =IFERROR(IF(Model!I21="","",Model!I21),"") -> 773.52222 | X9: =IFERROR(IF(Model!J21="","",Model!J21),"") -> 775.27937 | ... AB9: =IFERROR(IF(Model!N21="","",Model!N21),"") -> 782.30794 | AC9: =IF($B9="","",IF(_xlfn.XLOOKUP($B9,Actuals!$B$7:$B$13,Actuals!$G$7:$G$13,"")="Average",AVERAGE(Q9:AB9),SUM(Q9:AB9))) -> 772.64365
D10: =IFERROR(_xlfn.XLOOKUP($B10,Actuals!$B$7:$B$13,Actuals!AG$7:AG$13,""),"") | E10: =IFERROR(_xlfn.XLOOKUP($B10,Actuals!$B$7:$B$13,Actuals!AH$7:AH$13,""),"") | F10: =IFERROR(_xlfn.XLOOKUP($B10,Actuals!$B$7:$B$13,Actuals!AI$7:AI$13,""),"") | G10: =IFERROR(_xlfn.XLOOKUP($B10,Actuals!$B$7:$B$13,Actuals!AJ$7:AJ$13,""),"") | H10: =IFERROR(_xlfn.XLOOKUP($B10,Actuals!$B$7:$B$13,Actuals!AK$7:AK$13,""),"") | I10: =IFERROR(_xlfn.XLOOKUP($B10,Actuals!$B$7:$B$13,Actuals!AL$7:AL$13,""),"") | J10: =IFERROR(_xlfn.XLOOKUP($B10,Actuals!$B$7:$B$13,Actuals!AM$7:AM$13,""),"") | K10: =IFERROR(_xlfn.XLOOKUP($B10,Actuals!$B$7:$B$13,Actuals!AN$7:AN$13,""),"") | ... O10: =IFERROR(_xlfn.XLOOKUP($B10,Actuals!$B$7:$B$13,Actuals!AR$7:AR$13,""),"") | P10: =IF(_xlfn.XLOOKUP($B10,Actuals!$B$7:$B$13,Actuals!$G$7:$G$13,"")="Average",AVERAGE(D10:O10),SUM(D10:O10)) -> 0 | Q10: =IFERROR(IF(Model!C22="","",Model!C22),"") | R10: =IFERROR(IF(Model!D22="","",Model!D22),"") | S10: =IFERROR(IF(Model!E22="","",Model!E22),"") | T10: =IFERROR(IF(Model!F22="","",Model!F22),"") | U10: =IFERROR(IF(Model!G22="","",Model!G22),"") | V10: =IFERROR(IF(Model!H22="","",Model!H22),"") | W10: =IFERROR(IF(Model!I22="","",Model!I22),"") | X10: =IFERROR(IF(Model!J22="","",Model!J22),"") | ... AB10: =IFERROR(IF(Model!N22="","",Model!N22),"") | AC10: =IF($B10="","",IF(_xlfn.XLOOKUP($B10,Actuals!$B$7:$B$13,Actuals!$G$7:$G$13,"")="Average",AVERAGE(Q10:AB10),SUM(Q10:AB10)))
D11: =IFERROR(_xlfn.XLOOKUP($B11,Actuals!$B$7:$B$13,Actuals!AG$7:AG$13,""),"") | E11: =IFERROR(_xlfn.XLOOKUP($B11,Actuals!$B$7:$B$13,Actuals!AH$7:AH$13,""),"") | F11: =IFERROR(_xlfn.XLOOKUP($B11,Actuals!$B$7:$B$13,Actuals!AI$7:AI$13,""),"") | G11: =IFERROR(_xlfn.XLOOKUP($B11,Actuals!$B$7:$B$13,Actuals!AJ$7:AJ$13,""),"") | H11: =IFERROR(_xlfn.XLOOKUP($B11,Actuals!$B$7:$B$13,Actuals!AK$7:AK$13,""),"") | I11: =IFERROR(_xlfn.XLOOKUP($B11,Actuals!$B$7:$B$13,Actuals!AL$7:AL$13,""),"") | J11: =IFERROR(_xlfn.XLOOKUP($B11,Actuals!$B$7:$B$13,Actuals!AM$7:AM$13,""),"") | K11: =IFERROR(_xlfn.XLOOKUP($B11,Actuals!$B$7:$B$13,Actuals!AN$7:AN$13,""),"") | ... O11: =IFERROR(_xlfn.XLOOKUP($B11,Actuals!$B$7:$B$13,Actuals!AR$7:AR$13,""),"") | P11: =IF(_xlfn.XLOOKUP($B11,Actuals!$B$7:$B$13,Actuals!$G$7:$G$13,"")="Average",AVERAGE(D11:O11),SUM(D11:O11)) -> 0 | Q11: =IFERROR(IF(Model!C23="","",Model!C23),"") | R11: =IFERROR(IF(Model!D23="","",Model!D23),"") | S11: =IFERROR(IF(Model!E23="","",Model!E23),"") | T11: =IFERROR(IF(Model!F23="","",Model!F23),"") | U11: =IFERROR(IF(Model!G23="","",Model!G23),"") | V11: =IFERROR(IF(Model!H23="","",Model!H23),"") | W11: =IFERROR(IF(Model!I23="","",Model!I23),"") | X11: =IFERROR(IF(Model!J23="","",Model!J23),"") | ... AB11: =IFERROR(IF(Model!N23="","",Model!N23),"") | AC11: =IF($B11="","",IF(_xlfn.XLOOKUP($B11,Actuals!$B$7:$B$13,Actuals!$G$7:$G$13,"")="Average",AVERAGE(Q11:AB11),SUM(Q11:AB11)))
D12: =IFERROR(_xlfn.XLOOKUP($B12,Actuals!$B$7:$B$13,Actuals!AG$7:AG$13,""),"") | E12: =IFERROR(_xlfn.XLOOKUP($B12,Actuals!$B$7:$B$13,Actuals!AH$7:AH$13,""),"") | F12: =IFERROR(_xlfn.XLOOKUP($B12,Actuals!$B$7:$B$13,Actuals!AI$7:AI$13,""),"") | G12: =IFERROR(_xlfn.XLOOKUP($B12,Actuals!$B$7:$B$13,Actuals!AJ$7:AJ$13,""),"") | H12: =IFERROR(_xlfn.XLOOKUP($B12,Actuals!$B$7:$B$13,Actuals!AK$7:AK$13,""),"") | I12: =IFERROR(_xlfn.XLOOKUP($B12,Actuals!$B$7:$B$13,Actuals!AL$7:AL$13,""),"") | J12: =IFERROR(_xlfn.XLOOKUP($B12,Actuals!$B$7:$B$13,Actuals!AM$7:AM$13,""),"") | K12: =IFERROR(_xlfn.XLOOKUP($B12,Actuals!$B$7:$B$13,Actuals!AN$7:AN$13,""),"") | ... O12: =IFERROR(_xlfn.XLOOKUP($B12,Actuals!$B$7:$B$13,Actuals!AR$7:AR$13,""),"") | P12: =IF(_xlfn.XLOOKUP($B12,Actuals!$B$7:$B$13,Actuals!$G$7:$G$13,"")="Average",AVERAGE(D12:O12),SUM(D12:O12)) -> 0 | Q12: =IFERROR(IF(Model!C24="","",Model!C24),"") | R12: =IFERROR(IF(Model!D24="","",Model!D24),"") | S12: =IFERROR(IF(Model!E24="","",Model!E24),"") | T12: =IFERROR(IF(Model!F24="","",Model!F24),"") | U12: =IFERROR(IF(Model!G24="","",Model!G24),"") | V12: =IFERROR(IF(Model!H24="","",Model!H24),"") | W12: =IFERROR(IF(Model!I24="","",Model!I24),"") | X12: =IFERROR(IF(Model!J24="","",Model!J24),"") | ... AB12: =IFERROR(IF(Model!N24="","",Model!N24),"") | AC12: =IF($B12="","",IF(_xlfn.XLOOKUP($B12,Actuals!$B$7:$B$13,Actuals!$G$7:$G$13,"")="Average",AVERAGE(Q12:AB12),SUM(Q12:AB12)))
D13: =IFERROR(_xlfn.XLOOKUP($B13,Actuals!$B$7:$B$13,Actuals!AG$7:AG$13,""),"") | E13: =IFERROR(_xlfn.XLOOKUP($B13,Actuals!$B$7:$B$13,Actuals!AH$7:AH$13,""),"") | F13: =IFERROR(_xlfn.XLOOKUP($B13,Actuals!$B$7:$B$13,Actuals!AI$7:AI$13,""),"") | G13: =IFERROR(_xlfn.XLOOKUP($B13,Actuals!$B$7:$B$13,Actuals!AJ$7:AJ$13,""),"") | H13: =IFERROR(_xlfn.XLOOKUP($B13,Actuals!$B$7:$B$13,Actuals!AK$7:AK$13,""),"") | I13: =IFERROR(_xlfn.XLOOKUP($B13,Actuals!$B$7:$B$13,Actuals!AL$7:AL$13,""),"") | J13: =IFERROR(_xlfn.XLOOKUP($B13,Actuals!$B$7:$B$13,Actuals!AM$7:AM$13,""),"") | K13: =IFERROR(_xlfn.XLOOKUP($B13,Actuals!$B$7:$B$13,Actuals!AN$7:AN$13,""),"") | ... O13: =IFERROR(_xlfn.XLOOKUP($B13,Actuals!$B$7:$B$13,Actuals!AR$7:AR$13,""),"") | Q13: =IFERROR(IF(Model!C25="","",Model!C25),"") | R13: =IFERROR(IF(Model!D25="","",Model!D25),"") | S13: =IFERROR(IF(Model!E25="","",Model!E25),"") | T13: =IFERROR(IF(Model!F25="","",Model!F25),"") | U13: =IFERROR(IF(Model!G25="","",Model!G25),"") | V13: =IFERROR(IF(Model!H25="","",Model!H25),"") | W13: =IFERROR(IF(Model!I25="","",Model!I25),"") | X13: =IFERROR(IF(Model!J25="","",Model!J25),"") | ... AB13: =IFERROR(IF(Model!N25="","",Model!N25),"") | AC13: =IF($B13="","",IF(_xlfn.XLOOKUP($B13,Actuals!$B$7:$B$13,Actuals!$G$7:$G$13,"")="Average",AVERAGE(Q13:AB13),SUM(Q13:AB13)))
B15: Results
B16: Gross Margin | D16: =Actuals!AG16 -> 693840 | E16: =Actuals!AH16 -> 753948 | F16: =Actuals!AI16 -> 900360 | G16: =Actuals!AJ16 -> 947925 | H16: =Actuals!AK16 -> 958755 | I16: =Actuals!AL16 -> 971210 | J16: =Actuals!AM16 -> 832283 | K16: =Actuals!AN16 -> 851840 | ... O16: =Actuals!AR16 -> 740304 | P16: =SUM(D16:O16) -> 10478505 | Q16: {=TargetBase*(1+Intercept+SUMPRODUCT(Effects,IF(DriverBase="",0,Q7:Q13/IF(DriverBase="",1,DriverBase)-1)))} -> 752955.9 | R16: {=TargetBase*(1+Intercept+SUMPRODUCT(Effects,IF(DriverBase="",0,R7:R13/IF(DriverBase="",1,DriverBase)-1)))} -> 816558.97 | S16: {=TargetBase*(1+Intercept+SUMPRODUCT(Effects,IF(DriverBase="",0,S7:S13/IF(DriverBase="",1,DriverBase)-1)))} -> 981770.86 | T16: {=TargetBase*(1+Intercept+SUMPRODUCT(Effects,IF(DriverBase="",0,T7:T13/IF(DriverBase="",1,DriverBase)-1)))} -> 1021473 | U16: {=TargetBase*(1+Intercept+SUMPRODUCT(Effects,IF(DriverBase="",0,U7:U13/IF(DriverBase="",1,DriverBase)-1)))} -> 1050674.2 | V16: {=TargetBase*(1+Intercept+SUMPRODUCT(Effects,IF(DriverBase="",0,V7:V13/IF(DriverBase="",1,DriverBase)-1)))} -> 1048845.9 | W16: {=TargetBase*(1+Intercept+SUMPRODUCT(Effects,IF(DriverBase="",0,W7:W13/IF(DriverBase="",1,DriverBase)-1)))} -> 906007.1 | X16: {=TargetBase*(1+Intercept+SUMPRODUCT(Effects,IF(DriverBase="",0,X7:X13/IF(DriverBase="",1,DriverBase)-1)))} -> 941285.21 | ... AB16: {=TargetBase*(1+Intercept+SUMPRODUCT(Effects,IF(DriverBase="",0,AB7:AB13/IF(DriverBase="",1,DriverBase)-1)))} -> 813108.87 | AC16: =SUM(Q16:AB16) -> 11402870
B17: =Actuals!$B17 -> Product Revenue | D17: =Actuals!AG17 -> 1442729 | E17: =Actuals!AH17 -> 1594221 | F17: =Actuals!AI17 -> 1878989 | G17: =Actuals!AJ17 -> 1959269 | H17: =Actuals!AK17 -> 1996240 | I17: =Actuals!AL17 -> 2004034 | J17: =Actuals!AM17 -> 1755051 | K17: =Actuals!AN17 -> 1806842 | ... O17: =Actuals!AR17 -> 1568044 | P17: =SUM(D17:O17) -> 21973928 | Q17: =IF(D$16=0,0,D17/D$16)*Q$16 -> 1565651 | R17: =IF(E$16=0,0,E17/E$16)*R$16 -> 1726611.7 | S17: =IF(F$16=0,0,F17/F$16)*S$16 -> 2048887.8 | T17: =IF(G$16=0,0,G17/G$16)*T$16 -> 2111285.6 | U17: =IF(H$16=0,0,H17/H$16)*U$16 -> 2187626.5 | V17: =IF(I$16=0,0,I17/I$16)*V$16 -> 2164231.1 | W17: =IF(J$16=0,0,J17/J$16)*W$16 -> 1910514.4 | X17: =IF(K$16=0,0,K17/K$16)*X$16 -> 1996564.7 | ... AB17: =IF(O$16=0,0,O17/O$16)*AB$16 -> 1722252.6 | AC17: =SUM(Q17:AB17) -> 23913263
B18: =Actuals!$B18 -> Service Revenue | D18: =Actuals!AG18 -> 335971 | E18: =Actuals!AH18 -> 350256 | F18: =Actuals!AI18 -> 399586 | G18: =Actuals!AJ18 -> 413416 | H18: =Actuals!AK18 -> 459205 | I18: =Actuals!AL18 -> 442706 | J18: =Actuals!AM18 -> 360691 | K18: =Actuals!AN18 -> 384358 | ... O18: =Actuals!AR18 -> 354884 | P18: =SUM(D18:O18) -> 4786840 | Q18: =IF(D$16=0,0,D18/D$16)*Q$16 -> 364596.08 | R18: =IF(E$16=0,0,E18/E$16)*R$16 -> 379342.71 | S18: =IF(F$16=0,0,F18/F$16)*S$16 -> 435716.7 | T18: =IF(G$16=0,0,G18/G$16)*T$16 -> 445492.29 | U18: =IF(H$16=0,0,H18/H$16)*U$16 -> 503230.59 | V18: =IF(I$16=0,0,I18/I$16)*V$16 -> 478094.72 | W18: =IF(J$16=0,0,J18/J$16)*W$16 -> 392641.21 | X18: =IF(K$16=0,0,K18/K$16)*X$16 -> 424716.5 | ... AB18: =IF(O$16=0,0,O18/O$16)*AB$16 -> 389784.91 | AC18: =SUM(Q18:AB18) -> 5209800.3
B19: =Actuals!$B19 -> Materials | D19: =Actuals!AG19 -> 681641 | E19: =Actuals!AH19 -> 746186 | F19: =Actuals!AI19 -> 866892 | G19: =Actuals!AJ19 -> 872142 | H19: =Actuals!AK19 -> 938267 | I19: =Actuals!AL19 -> 929563 | J19: =Actuals!AM19 -> 794552 | K19: =Actuals!AN19 -> 829842 | ... O19: =Actuals!AR19 -> 739897 | P19: =SUM(D19:O19) -> 10142323 | Q19: =IF(D$16=0,0,D19/D$16)*Q$16 -> 739717.53 | R19: =IF(E$16=0,0,E19/E$16)*R$16 -> 808152.38 | S19: =IF(F$16=0,0,F19/F$16)*S$16 -> 945276.68 | T19: =IF(G$16=0,0,G19/G$16)*T$16 -> 939810.11 | U19: =IF(H$16=0,0,H19/H$16)*U$16 -> 1028221.9 | V19: =IF(I$16=0,0,I19/I$16)*V$16 -> 1003869.8 | W19: =IF(J$16=0,0,J19/J$16)*W$16 -> 864933.87 | X19: =IF(K$16=0,0,K19/K$16)*X$16 -> 916977.37 | ... AB19: =IF(O$16=0,0,O19/O$16)*AB$16 -> 812661.84 | AC19: =SUM(Q19:AB19) -> 11037892
B20: =Actuals!$B20 -> Freight and duties | D20: =Actuals!AG20 -> 114265 | E20: =Actuals!AH20 -> 126560 | F20: =Actuals!AI20 -> 153401 | G20: =Actuals!AJ20 -> 155791 | H20: =Actuals!AK20 -> 161565 | I20: =Actuals!AL20 -> 167506 | J20: =Actuals!AM20 -> 141029 | K20: =Actuals!AN20 -> 144531 | ... O20: =Actuals!AR20 -> 134433 | P20: =SUM(D20:O20) -> 1780248 | Q20: =IF(D$16=0,0,D20/D$16)*Q$16 -> 124000.5 | R20: =IF(E$16=0,0,E20/E$16)*R$16 -> 137070.07 | S20: =IF(F$16=0,0,F20/F$16)*S$16 -> 167271.57 | T20: =IF(G$16=0,0,G20/G$16)*T$16 -> 167878.58 | U20: =IF(H$16=0,0,H20/H$16)*U$16 -> 177054.8 | V20: =IF(I$16=0,0,I20/I$16)*V$16 -> 180895.98 | W20: =IF(J$16=0,0,J20/J$16)*W$16 -> 153521.43 | X20: =IF(K$16=0,0,K20/K$16)*X$16 -> 159707.1 | ... AB20: =IF(O$16=0,0,O20/O$16)*AB$16 -> 147653.75 | AC20: =SUM(Q20:AB20) -> 1937436.8
B21: =Actuals!$B21 -> Direct labour | D21: =Actuals!AG21 -> 288954 | E21: =Actuals!AH21 -> 317783 | F21: =Actuals!AI21 -> 357922 | G21: =Actuals!AJ21 -> 396827 | H21: =Actuals!AK21 -> 396858 | I21: =Actuals!AL21 -> 378461 | J21: =Actuals!AM21 -> 347878 | K21: =Actuals!AN21 -> 364987 | ... O21: =Actuals!AR21 -> 308294 | P21: =SUM(D21:O21) -> 4359692 | Q21: =IF(D$16=0,0,D21/D$16)*Q$16 -> 313573.18 | R21: =IF(E$16=0,0,E21/E$16)*R$16 -> 344173.02 | S21: =IF(F$16=0,0,F21/F$16)*S$16 -> 390285.43 | T21: =IF(G$16=0,0,G21/G$16)*T$16 -> 427616.18 | U21: =IF(H$16=0,0,H21/H$16)*U$16 -> 434906.17 | V21: =IF(I$16=0,0,I21/I$16)*V$16 -> 408714.15 | W21: =IF(J$16=0,0,J21/J$16)*W$16 -> 378693.23 | X21: =IF(K$16=0,0,K21/K$16)*X$16 -> 403311.5 | ... AB21: =IF(O$16=0,0,O21/O$16)*AB$16 -> 338613.04 | AC21: =SUM(Q21:AB21) -> 4744864.4

Sheet Scenario Builder
B1: Scenario Modeler
B2: =C6&" - top-down" -> Volume capped at 23,400 units, solve price and cost - top-down | D2: Actual | E2: Actual | F2: Actual | G2: Actual | H2: Actual | I2: Actual | J2: Actual | K2: Actual | L2: Actual | M2: Actual | N2: Actual | O2: Actual | P2: Actual
D3: =Actuals!$AU$3 -> 2026 | E3: =Actuals!$AU$3 -> 2026 | F3: =Actuals!$AU$3 -> 2026 | G3: =Actuals!$AU$3 -> 2026 | H3: =Actuals!$AU$3 -> 2026 | I3: =Actuals!$AU$3 -> 2026 | J3: =Actuals!$AU$3 -> 2026 | K3: =Actuals!$AU$3 -> 2026 | ... O3: =Actuals!$AU$3 -> 2026 | P3: =$O$3 -> 2026 | Q3: =$D$3+1 -> 2027 | R3: =$D$3+1 -> 2027 | S3: =$D$3+1 -> 2027 | T3: =$D$3+1 -> 2027 | U3: =$D$3+1 -> 2027 | V3: =$D$3+1 -> 2027 | W3: =$D$3+1 -> 2027 | X3: =$D$3+1 -> 2027 | ... AB3: =$D$3+1 -> 2027 | AC3: =$AB$3 -> 2027
D4: Jan | E4: Feb | F4: Mar | G4: Apr | H4: May | I4: Jun | J4: Jul | K4: Aug | L4: Sep | M4: Oct | N4: Nov | O4: Dec | P4: Full Year | Q4: Jan | R4: Feb | S4: Mar | T4: Apr | U4: May | V4: Jun | W4: Jul | X4: Aug | Y4: Sep | Z4: Oct | AA4: Nov | AB4: Dec | AC4: Full Year | AD4: Comments
B6: Scenario name | C6: Volume capped at 23,400 units, solve price and cost
B7: Description | C7: Hybrid. Units sold locked at a typed monthly profile totalling about 23,400 for the year, roughly the 8% fulfilment ceiling Ops will accept. The solver finds the smallest move in average price and unit cost, inside their limits, that still reaches the 15% target.
B8: Target source | C8: Set by me
B9: Drivers | C9: Solved
B10: Objective | C10: Smallest change
B11: Status | C11: Top-down, on target
B13: Target
B14: =Actuals!$B$16 -> Gross Margin | D14: =Actuals!AG$16 -> 693840 | E14: =Actuals!AH$16 -> 753948 | F14: =Actuals!AI$16 -> 900360 | G14: =Actuals!AJ$16 -> 947925 | H14: =Actuals!AK$16 -> 958755 | I14: =Actuals!AL$16 -> 971210 | J14: =Actuals!AM$16 -> 832283 | K14: =Actuals!AN$16 -> 851840 | ... O14: =Actuals!AR$16 -> 740304 | P14: =SUM(D14:O14) -> 10478505 | Q14: =D14*(1+Frame!$C$20) -> 797916 | R14: =E14*(1+Frame!$C$20) -> 867040.2 | S14: =F14*(1+Frame!$C$20) -> 1035414 | T14: =G14*(1+Frame!$C$20) -> 1090113.8 | U14: =H14*(1+Frame!$C$20) -> 1102568.2 | V14: =I14*(1+Frame!$C$20) -> 1116891.5 | W14: =J14*(1+Frame!$C$20) -> 957125.45 | X14: =K14*(1+Frame!$C$20) -> 979616 | ... AB14: =O14*(1+Frame!$C$20) -> 851349.6 | AC14: =SUM(Q14:AB14) -> 12050281
B16: Drivers
B17: {=IFERROR(_xlfn._xlws.FILTER(Actuals!$B$7:$B$13,Actuals!$H$7:$H$13),"No Drivers Selected")} -> Units sold | D17: {=_xlfn.XLOOKUP(_xlfn.ANCHORARRAY($B17),Actuals!$B$7:$B$13,Actuals!AG$7:AG$13,0)} -> 1470 | E17: {=_xlfn.XLOOKUP(_xlfn.ANCHORARRAY($B17),Actuals!$B$7:$B$13,Actuals!AH$7:AH$13,0)} -> 1611 | F17: {=_xlfn.XLOOKUP(_xlfn.ANCHORARRAY($B17),Actuals!$B$7:$B$13,Actuals!AI$7:AI$13,0)} -> 1845 | G17: {=_xlfn.XLOOKUP(_xlfn.ANCHORARRAY($B17),Actuals!$B$7:$B$13,Actuals!AJ$7:AJ$13,0)} -> 1915 | H17: {=_xlfn.XLOOKUP(_xlfn.ANCHORARRAY($B17),Actuals!$B$7:$B$13,Actuals!AK$7:AK$13,0)} -> 1985 | I17: {=_xlfn.XLOOKUP(_xlfn.ANCHORARRAY($B17),Actuals!$B$7:$B$13,Actuals!AL$7:AL$13,0)} -> 1970 | J17: {=_xlfn.XLOOKUP(_xlfn.ANCHORARRAY($B17),Actuals!$B$7:$B$13,Actuals!AM$7:AM$13,0)} -> 1709 | K17: {=_xlfn.XLOOKUP(_xlfn.ANCHORARRAY($B17),Actuals!$B$7:$B$13,Actuals!AN$7:AN$13,0)} -> 1760 | ... O17: {=_xlfn.XLOOKUP(_xlfn.ANCHORARRAY($B17),Actuals!$B$7:$B$13,Actuals!AR$7:AR$13,0)} -> 1552 | P17: =IF(_xlfn.XLOOKUP($B17,Actuals!$B$7:$B$13,Actuals!$G$7:$G$13,"")="Average",AVERAGE(D17:O17),SUM(D17:O17)) -> 21667 | Q17: =D17*1.08 -> 1587.6 | R17: =E17*1.08 -> 1739.88 | S17: =F17*1.08 -> 1992.6 | T17: =G17*1.08 -> 2068.2 | U17: =H17*1.08 -> 2143.8 | V17: =I17*1.08 -> 2127.6 | W17: =J17*1.08 -> 1845.72 | X17: =K17*1.08 -> 1900.8 | ... AB17: =O17*1.08 -> 1676.16 | AC17: =IF(COUNT(Q17:AB17)=0,"",IF(_xlfn.XLOOKUP($B17,Actuals!$B$7:$B$13,Actuals!$G$7:$G$13,"")="Average",AVERAGE(Q17:AB17),SUM(Q17:AB17))) -> 23400.36 | AD17: locked - typed monthly volume, about 23,400 for the year
B18: Average price | D18: 1210 | E18: 1207 | F18: 1235 | G18: 1239 | H18: 1237 | I18: 1242 | J18: 1238 | K18: 1245 | L18: 1237 | M18: 1243 | N18: 1240 | O18: 1239 | P18: =IF(_xlfn.XLOOKUP($B18,Actuals!$B$7:$B$13,Actuals!$G$7:$G$13,"")="Average",AVERAGE(D18:O18),SUM(D18:O18)) -> 1234.3333 | AC18: =IF(COUNT(Q18:AB18)=0,"",IF(_xlfn.XLOOKUP($B18,Actuals!$B$7:$B$13,Actuals!$G$7:$G$13,"")="Average",AVERAGE(Q18:AB18),SUM(Q18:AB18)))
B19: Unit cost | D19: 738 | E19: 739 | F19: 747 | G19: 744 | H19: 754 | I19: 749 | J19: 751 | K19: 761 | L19: 759 | M19: 754 | N19: 757 | O19: 762 | P19: =IF(_xlfn.XLOOKUP($B19,Actuals!$B$7:$B$13,Actuals!$G$7:$G$13,"")="Average",AVERAGE(D19:O19),SUM(D19:O19)) -> 751.25 | AC19: =IF(COUNT(Q19:AB19)=0,"",IF(_xlfn.XLOOKUP($B19,Actuals!$B$7:$B$13,Actuals!$G$7:$G$13,"")="Average",AVERAGE(Q19:AB19),SUM(Q19:AB19)))
P20: =IF(_xlfn.XLOOKUP($B20,Actuals!$B$7:$B$13,Actuals!$G$7:$G$13,"")="Average",AVERAGE(D20:O20),SUM(D20:O20)) -> 0 | AC20: =IF(COUNT(Q20:AB20)=0,"",IF(_xlfn.XLOOKUP($B20,Actuals!$B$7:$B$13,Actuals!$G$7:$G$13,"")="Average",AVERAGE(Q20:AB20),SUM(Q20:AB20)))
P21: =IF(_xlfn.XLOOKUP($B21,Actuals!$B$7:$B$13,Actuals!$G$7:$G$13,"")="Average",AVERAGE(D21:O21),SUM(D21:O21)) -> 0 | AC21: =IF(COUNT(Q21:AB21)=0,"",IF(_xlfn.XLOOKUP($B21,Actuals!$B$7:$B$13,Actuals!$G$7:$G$13,"")="Average",AVERAGE(Q21:AB21),SUM(Q21:AB21)))
P22: =IF(_xlfn.XLOOKUP($B22,Actuals!$B$7:$B$13,Actuals!$G$7:$G$13,"")="Average",AVERAGE(D22:O22),SUM(D22:O22)) -> 0 | AC22: =IF(COUNT(Q22:AB22)=0,"",IF(_xlfn.XLOOKUP($B22,Actuals!$B$7:$B$13,Actuals!$G$7:$G$13,"")="Average",AVERAGE(Q22:AB22),SUM(Q22:AB22)))
B25: Results
B26: Gross Margin | D26: =Actuals!AG16 -> 693840 | E26: =Actuals!AH16 -> 753948 | F26: =Actuals!AI16 -> 900360 | G26: =Actuals!AJ16 -> 947925 | H26: =Actuals!AK16 -> 958755 | I26: =Actuals!AL16 -> 971210 | J26: =Actuals!AM16 -> 832283 | K26: =Actuals!AN16 -> 851840 | ... O26: =Actuals!AR16 -> 740304 | P26: =SUM(D26:O26) -> 10478505 | AC26: =SUM(Q26:AB26) -> 0
B27: =Actuals!$B17 -> Product Revenue | D27: =Actuals!AG17 -> 1442729 | E27: =Actuals!AH17 -> 1594221 | F27: =Actuals!AI17 -> 1878989 | G27: =Actuals!AJ17 -> 1959269 | H27: =Actuals!AK17 -> 1996240 | I27: =Actuals!AL17 -> 2004034 | J27: =Actuals!AM17 -> 1755051 | K27: =Actuals!AN17 -> 1806842 | ... O27: =Actuals!AR17 -> 1568044 | P27: =SUM(D27:O27) -> 21973928 | Q27: =IF(D$26=0,0,D27/D$26)*Q$26 -> 0 | R27: =IF(E$26=0,0,E27/E$26)*R$26 -> 0 | S27: =IF(F$26=0,0,F27/F$26)*S$26 -> 0 | T27: =IF(G$26=0,0,G27/G$26)*T$26 -> 0 | U27: =IF(H$26=0,0,H27/H$26)*U$26 -> 0 | V27: =IF(I$26=0,0,I27/I$26)*V$26 -> 0 | W27: =IF(J$26=0,0,J27/J$26)*W$26 -> 0 | X27: =IF(K$26=0,0,K27/K$26)*X$26 -> 0 | ... AB27: =IF(O$26=0,0,O27/O$26)*AB$26 -> 0 | AC27: =SUM(Q27:AB27) -> 0
B28: =Actuals!$B18 -> Service Revenue | D28: =Actuals!AG18 -> 335971 | E28: =Actuals!AH18 -> 350256 | F28: =Actuals!AI18 -> 399586 | G28: =Actuals!AJ18 -> 413416 | H28: =Actuals!AK18 -> 459205 | I28: =Actuals!AL18 -> 442706 | J28: =Actuals!AM18 -> 360691 | K28: =Actuals!AN18 -> 384358 | ... O28: =Actuals!AR18 -> 354884 | P28: =SUM(D28:O28) -> 4786840 | Q28: =IF(D$26=0,0,D28/D$26)*Q$26 -> 0 | R28: =IF(E$26=0,0,E28/E$26)*R$26 -> 0 | S28: =IF(F$26=0,0,F28/F$26)*S$26 -> 0 | T28: =IF(G$26=0,0,G28/G$26)*T$26 -> 0 | U28: =IF(H$26=0,0,H28/H$26)*U$26 -> 0 | V28: =IF(I$26=0,0,I28/I$26)*V$26 -> 0 | W28: =IF(J$26=0,0,J28/J$26)*W$26 -> 0 | X28: =IF(K$26=0,0,K28/K$26)*X$26 -> 0 | ... AB28: =IF(O$26=0,0,O28/O$26)*AB$26 -> 0 | AC28: =SUM(Q28:AB28) -> 0
B29: =Actuals!$B19 -> Materials | D29: =Actuals!AG19 -> 681641 | E29: =Actuals!AH19 -> 746186 | F29: =Actuals!AI19 -> 866892 | G29: =Actuals!AJ19 -> 872142 | H29: =Actuals!AK19 -> 938267 | I29: =Actuals!AL19 -> 929563 | J29: =Actuals!AM19 -> 794552 | K29: =Actuals!AN19 -> 829842 | ... O29: =Actuals!AR19 -> 739897 | P29: =SUM(D29:O29) -> 10142323 | Q29: =IF(D$26=0,0,D29/D$26)*Q$26 -> 0 | R29: =IF(E$26=0,0,E29/E$26)*R$26 -> 0 | S29: =IF(F$26=0,0,F29/F$26)*S$26 -> 0 | T29: =IF(G$26=0,0,G29/G$26)*T$26 -> 0 | U29: =IF(H$26=0,0,H29/H$26)*U$26 -> 0 | V29: =IF(I$26=0,0,I29/I$26)*V$26 -> 0 | W29: =IF(J$26=0,0,J29/J$26)*W$26 -> 0 | X29: =IF(K$26=0,0,K29/K$26)*X$26 -> 0 | ... AB29: =IF(O$26=0,0,O29/O$26)*AB$26 -> 0 | AC29: =SUM(Q29:AB29) -> 0
B30: =Actuals!$B20 -> Freight and duties | D30: =Actuals!AG20 -> 114265 | E30: =Actuals!AH20 -> 126560 | F30: =Actuals!AI20 -> 153401 | G30: =Actuals!AJ20 -> 155791 | H30: =Actuals!AK20 -> 161565 | I30: =Actuals!AL20 -> 167506 | J30: =Actuals!AM20 -> 141029 | K30: =Actuals!AN20 -> 144531 | ... O30: =Actuals!AR20 -> 134433 | P30: =SUM(D30:O30) -> 1780248 | Q30: =IF(D$26=0,0,D30/D$26)*Q$26 -> 0 | R30: =IF(E$26=0,0,E30/E$26)*R$26 -> 0 | S30: =IF(F$26=0,0,F30/F$26)*S$26 -> 0 | T30: =IF(G$26=0,0,G30/G$26)*T$26 -> 0 | U30: =IF(H$26=0,0,H30/H$26)*U$26 -> 0 | V30: =IF(I$26=0,0,I30/I$26)*V$26 -> 0 | W30: =IF(J$26=0,0,J30/J$26)*W$26 -> 0 | X30: =IF(K$26=0,0,K30/K$26)*X$26 -> 0 | ... AB30: =IF(O$26=0,0,O30/O$26)*AB$26 -> 0 | AC30: =SUM(Q30:AB30) -> 0
B31: =Actuals!$B21 -> Direct labour | D31: =Actuals!AG21 -> 288954 | E31: =Actuals!AH21 -> 317783 | F31: =Actuals!AI21 -> 357922 | G31: =Actuals!AJ21 -> 396827 | H31: =Actuals!AK21 -> 396858 | I31: =Actuals!AL21 -> 378461 | J31: =Actuals!AM21 -> 347878 | K31: =Actuals!AN21 -> 364987 | ... O31: =Actuals!AR21 -> 308294 | P31: =SUM(D31:O31) -> 4359692 | Q31: =IF(D$26=0,0,D31/D$26)*Q$26 -> 0 | R31: =IF(E$26=0,0,E31/E$26)*R$26 -> 0 | S31: =IF(F$26=0,0,F31/F$26)*S$26 -> 0 | T31: =IF(G$26=0,0,G31/G$26)*T$26 -> 0 | U31: =IF(H$26=0,0,H31/H$26)*U$26 -> 0 | V31: =IF(I$26=0,0,I31/I$26)*V$26 -> 0 | W31: =IF(J$26=0,0,J31/J$26)*W$26 -> 0 | X31: =IF(K$26=0,0,K31/K$26)*X$26 -> 0 | ... AB31: =IF(O$26=0,0,O31/O$26)*AB$26 -> 0 | AC31: =SUM(Q31:AB31) -> 0

Sheet Scenario 1
B1: Scenario Modeler
B2: =C6&" - top-down" -> 15% on last year, same seasonality - top-down | D2: Actual | E2: Actual | F2: Actual | G2: Actual | H2: Actual | I2: Actual | J2: Actual | K2: Actual | L2: Actual | M2: Actual | N2: Actual | O2: Actual | P2: Actual
D3: =Actuals!$AU$3 -> 2026 | E3: =Actuals!$AU$3 -> 2026 | F3: =Actuals!$AU$3 -> 2026 | G3: =Actuals!$AU$3 -> 2026 | H3: =Actuals!$AU$3 -> 2026 | I3: =Actuals!$AU$3 -> 2026 | J3: =Actuals!$AU$3 -> 2026 | K3: =Actuals!$AU$3 -> 2026 | ... O3: =Actuals!$AU$3 -> 2026 | P3: =$O$3 -> 2026 | Q3: =$D$3+1 -> 2027 | R3: =$D$3+1 -> 2027 | S3: =$D$3+1 -> 2027 | T3: =$D$3+1 -> 2027 | U3: =$D$3+1 -> 2027 | V3: =$D$3+1 -> 2027 | W3: =$D$3+1 -> 2027 | X3: =$D$3+1 -> 2027 | ... AB3: =$D$3+1 -> 2027 | AC3: =$AB$3 -> 2027
D4: Jan | E4: Feb | F4: Mar | G4: Apr | H4: May | I4: Jun | J4: Jul | K4: Aug | L4: Sep | M4: Oct | N4: Nov | O4: Dec | P4: Full Year | Q4: Jan | R4: Feb | S4: Mar | T4: Apr | U4: May | V4: Jun | W4: Jul | X4: Aug | Y4: Sep | Z4: Oct | AA4: Nov | AB4: Dec | AC4: Full Year | AD4: Comments
B6: Scenario name | C6: 15% on last year, same seasonality
B7: Description | C7: Gross margin set 15% above FY2026 actuals, month by month, keeping last year's seasonal shape. Drivers left blank for the solver.
B8: Target source | C8: Set by me
B9: Drivers | C9: Solved
B10: Objective | C10: Smallest change
B11: Status | C11: Top-down, on target
B13: Target
B14: =Actuals!$B$16 -> Gross Margin | D14: =Actuals!AG$16 -> 693840 | E14: =Actuals!AH$16 -> 753948 | F14: =Actuals!AI$16 -> 900360 | G14: =Actuals!AJ$16 -> 947925 | H14: =Actuals!AK$16 -> 958755 | I14: =Actuals!AL$16 -> 971210 | J14: =Actuals!AM$16 -> 832283 | K14: =Actuals!AN$16 -> 851840 | ... O14: =Actuals!AR$16 -> 740304 | P14: =SUM(D14:O14) -> 10478505 | Q14: =D14*(1+Frame!$C$20) -> 797916 | R14: =E14*(1+Frame!$C$20) -> 867040.2 | S14: =F14*(1+Frame!$C$20) -> 1035414 | T14: =G14*(1+Frame!$C$20) -> 1090113.8 | U14: =H14*(1+Frame!$C$20) -> 1102568.2 | V14: =I14*(1+Frame!$C$20) -> 1116891.5 | W14: =J14*(1+Frame!$C$20) -> 957125.45 | X14: =K14*(1+Frame!$C$20) -> 979616 | ... AB14: =O14*(1+Frame!$C$20) -> 851349.6 | AC14: =SUM(Q14:AB14) -> 12050281
B16: Drivers
B17: {=IFERROR(_xlfn._xlws.FILTER(Actuals!$B$7:$B$13,Actuals!$H$7:$H$13),"No Drivers Selected")} -> Units sold | D17: {=_xlfn.XLOOKUP(_xlfn.ANCHORARRAY($B17),Actuals!$B$7:$B$13,Actuals!AG$7:AG$13,0)} -> 1470 | E17: {=_xlfn.XLOOKUP(_xlfn.ANCHORARRAY($B17),Actuals!$B$7:$B$13,Actuals!AH$7:AH$13,0)} -> 1611 | F17: {=_xlfn.XLOOKUP(_xlfn.ANCHORARRAY($B17),Actuals!$B$7:$B$13,Actuals!AI$7:AI$13,0)} -> 1845 | G17: {=_xlfn.XLOOKUP(_xlfn.ANCHORARRAY($B17),Actuals!$B$7:$B$13,Actuals!AJ$7:AJ$13,0)} -> 1915 | H17: {=_xlfn.XLOOKUP(_xlfn.ANCHORARRAY($B17),Actuals!$B$7:$B$13,Actuals!AK$7:AK$13,0)} -> 1985 | I17: {=_xlfn.XLOOKUP(_xlfn.ANCHORARRAY($B17),Actuals!$B$7:$B$13,Actuals!AL$7:AL$13,0)} -> 1970 | J17: {=_xlfn.XLOOKUP(_xlfn.ANCHORARRAY($B17),Actuals!$B$7:$B$13,Actuals!AM$7:AM$13,0)} -> 1709 | K17: {=_xlfn.XLOOKUP(_xlfn.ANCHORARRAY($B17),Actuals!$B$7:$B$13,Actuals!AN$7:AN$13,0)} -> 1760 | ... O17: {=_xlfn.XLOOKUP(_xlfn.ANCHORARRAY($B17),Actuals!$B$7:$B$13,Actuals!AR$7:AR$13,0)} -> 1552 | P17: =IF(_xlfn.XLOOKUP($B17,Actuals!$B$7:$B$13,Actuals!$G$7:$G$13,"")="Average",AVERAGE(D17:O17),SUM(D17:O17)) -> 21667 | Q17: 1587.0138 | R17: 1739.2375 | S17: 1991.8642 | T17: 2067.4363 | U17: 2143.0084 | V17: 2126.8144 | W17: 1845.0384 | X17: 1900.0981 | Y17: 2092.2671 | Z17: 2191.5904 | AA17: 2031.8095 | AB17: 1675.5411 | AC17: =IF(COUNT(Q17:AB17)=0,"",IF(_xlfn.XLOOKUP($B17,Actuals!$B$7:$B$13,Actuals!$G$7:$G$13,"")="Average",AVERAGE(Q17:AB17),SUM(Q17:AB17))) -> 23391.719 | AD17: solved
B18: Average price | D18: 1210 | E18: 1207 | F18: 1235 | G18: 1239 | H18: 1237 | I18: 1242 | J18: 1238 | K18: 1245 | L18: 1237 | M18: 1243 | N18: 1240 | O18: 1239 | P18: =IF(_xlfn.XLOOKUP($B18,Actuals!$B$7:$B$13,Actuals!$G$7:$G$13,"")="Average",AVERAGE(D18:O18),SUM(D18:O18)) -> 1234.3333 | Q18: 1259.3868 | R18: 1256.2644 | S18: 1285.4072 | T18: 1289.5705 | U18: 1287.4889 | V18: 1292.6929 | W18: 1288.5297 | X18: 1295.8154 | Y18: 1287.4889 | Z18: 1293.7338 | AA18: 1290.6113 | AB18: 1289.5705 | AC18: =IF(COUNT(Q18:AB18)=0,"",IF(_xlfn.XLOOKUP($B18,Actuals!$B$7:$B$13,Actuals!$G$7:$G$13,"")="Average",AVERAGE(Q18:AB18),SUM(Q18:AB18))) -> 1284.7134 | AD18: solved
B19: Unit cost | D19: 738 | E19: 739 | F19: 747 | G19: 744 | H19: 754 | I19: 749 | J19: 751 | K19: 761 | L19: 759 | M19: 754 | N19: 757 | O19: 762 | P19: =IF(_xlfn.XLOOKUP($B19,Actuals!$B$7:$B$13,Actuals!$G$7:$G$13,"")="Average",AVERAGE(D19:O19),SUM(D19:O19)) -> 751.25 | Q19: 755.56945 | R19: 757.30953 | S19: 759.04961 | T19: 760.78968 | U19: 762.52976 | V19: 764.26984 | W19: 766.00992 | X19: 767.75 | Y19: 769.49007 | Z19: 771.23015 | AA19: 772.97023 | AB19: 774.71031 | AC19: =IF(COUNT(Q19:AB19)=0,"",IF(_xlfn.XLOOKUP($B19,Actuals!$B$7:$B$13,Actuals!$G$7:$G$13,"")="Average",AVERAGE(Q19:AB19),SUM(Q19:AB19))) -> 765.13988 | AD19: solved
P20: =IF(_xlfn.XLOOKUP($B20,Actuals!$B$7:$B$13,Actuals!$G$7:$G$13,"")="Average",AVERAGE(D20:O20),SUM(D20:O20)) -> 0 | AC20: =IF(COUNT(Q20:AB20)=0,"",IF(_xlfn.XLOOKUP($B20,Actuals!$B$7:$B$13,Actuals!$G$7:$G$13,"")="Average",AVERAGE(Q20:AB20),SUM(Q20:AB20)))
P21: =IF(_xlfn.XLOOKUP($B21,Actuals!$B$7:$B$13,Actuals!$G$7:$G$13,"")="Average",AVERAGE(D21:O21),SUM(D21:O21)) -> 0 | AC21: =IF(COUNT(Q21:AB21)=0,"",IF(_xlfn.XLOOKUP($B21,Actuals!$B$7:$B$13,Actuals!$G$7:$G$13,"")="Average",AVERAGE(Q21:AB21),SUM(Q21:AB21)))
P22: =IF(_xlfn.XLOOKUP($B22,Actuals!$B$7:$B$13,Actuals!$G$7:$G$13,"")="Average",AVERAGE(D22:O22),SUM(D22:O22)) -> 0 | AC22: =IF(COUNT(Q22:AB22)=0,"",IF(_xlfn.XLOOKUP($B22,Actuals!$B$7:$B$13,Actuals!$G$7:$G$13,"")="Average",AVERAGE(Q22:AB22),SUM(Q22:AB22)))
B25: Results
B26: Gross Margin | D26: =Actuals!AG16 -> 693840 | E26: =Actuals!AH16 -> 753948 | F26: =Actuals!AI16 -> 900360 | G26: =Actuals!AJ16 -> 947925 | H26: =Actuals!AK16 -> 958755 | I26: =Actuals!AL16 -> 971210 | J26: =Actuals!AM16 -> 832283 | K26: =Actuals!AN16 -> 851840 | ... O26: =Actuals!AR16 -> 740304 | P26: =SUM(D26:O26) -> 10478505 | Q26: {=TargetBase*(1+Intercept+SUMPRODUCT(Effects,IF(DriverBase="",0,Q17:Q23/IF(DriverBase="",1,DriverBase)-1)))} -> 804879.21 | R26: {=TargetBase*(1+Intercept+SUMPRODUCT(Effects,IF(DriverBase="",0,R17:R23/IF(DriverBase="",1,DriverBase)-1)))} -> 868921.32 | S26: {=TargetBase*(1+Intercept+SUMPRODUCT(Effects,IF(DriverBase="",0,S17:S23/IF(DriverBase="",1,DriverBase)-1)))} -> 1035779.3 | T26: {=TargetBase*(1+Intercept+SUMPRODUCT(Effects,IF(DriverBase="",0,T17:T23/IF(DriverBase="",1,DriverBase)-1)))} -> 1075869.6 | U26: {=TargetBase*(1+Intercept+SUMPRODUCT(Effects,IF(DriverBase="",0,U17:U23/IF(DriverBase="",1,DriverBase)-1)))} -> 1105288.7 | V26: {=TargetBase*(1+Intercept+SUMPRODUCT(Effects,IF(DriverBase="",0,V17:V23/IF(DriverBase="",1,DriverBase)-1)))} -> 1103578.1 | W26: {=TargetBase*(1+Intercept+SUMPRODUCT(Effects,IF(DriverBase="",0,W17:W23/IF(DriverBase="",1,DriverBase)-1)))} -> 959736.88 | X26: {=TargetBase*(1+Intercept+SUMPRODUCT(Effects,IF(DriverBase="",0,X17:X23/IF(DriverBase="",1,DriverBase)-1)))} -> 995421.56 | ... AB26: {=TargetBase*(1+Intercept+SUMPRODUCT(Effects,IF(DriverBase="",0,AB17:AB23/IF(DriverBase="",1,DriverBase)-1)))} -> 866457.97 | AC26: =SUM(Q26:AB26) -> 12050281
B27: =Actuals!$B17 -> Product Revenue | D27: =Actuals!AG17 -> 1442729 | E27: =Actuals!AH17 -> 1594221 | F27: =Actuals!AI17 -> 1878989 | G27: =Actuals!AJ17 -> 1959269 | H27: =Actuals!AK17 -> 1996240 | I27: =Actuals!AL17 -> 2004034 | J27: =Actuals!AM17 -> 1755051 | K27: =Actuals!AN17 -> 1806842 | ... O27: =Actuals!AR17 -> 1568044 | P27: =SUM(D27:O27) -> 21973928 | Q27: =IF(D$26=0,0,D27/D$26)*Q$26 -> 1673617.2 | R27: =IF(E$26=0,0,E27/E$26)*R$26 -> 1837331.8 | S27: =IF(F$26=0,0,F27/F$26)*S$26 -> 2161599.6 | T27: =IF(G$26=0,0,G27/G$26)*T$26 -> 2223718.1 | U27: =IF(H$26=0,0,H27/H$26)*U$26 -> 2301340.2 | V27: =IF(I$26=0,0,I27/I$26)*V$26 -> 2277167.8 | W27: =IF(J$26=0,0,J27/J$26)*W$26 -> 2023815.4 | X27: =IF(K$26=0,0,K27/K$26)*X$26 -> 2111393.5 | ... AB27: =IF(O$26=0,0,O27/O$26)*AB$26 -> 1835251.8 | AC27: =SUM(Q27:AB27) -> 25271324
B28: =Actuals!$B18 -> Service Revenue | D28: =Actuals!AG18 -> 335971 | E28: =Actuals!AH18 -> 350256 | F28: =Actuals!AI18 -> 399586 | G28: =Actuals!AJ18 -> 413416 | H28: =Actuals!AK18 -> 459205 | I28: =Actuals!AL18 -> 442706 | J28: =Actuals!AM18 -> 360691 | K28: =Actuals!AN18 -> 384358 | ... O28: =Actuals!AR18 -> 354884 | P28: =SUM(D28:O28) -> 4786840 | Q28: =IF(D$26=0,0,D28/D$26)*Q$26 -> 389738.37 | R28: =IF(E$26=0,0,E28/E$26)*R$26 -> 403668.3 | S28: =IF(F$26=0,0,F28/F$26)*S$26 -> 459686.01 | T28: =IF(G$26=0,0,G28/G$26)*T$26 -> 469216.13 | U28: =IF(H$26=0,0,H28/H$26)*U$26 -> 529388.71 | V28: =IF(I$26=0,0,I28/I$26)*V$26 -> 503043.28 | W28: =IF(J$26=0,0,J28/J$26)*W$26 -> 415926.38 | X28: =IF(K$26=0,0,K28/K$26)*X$26 -> 449143.31 | ... AB28: =IF(O$26=0,0,O28/O$26)*AB$26 -> 415359.19 | AC28: =SUM(Q28:AB28) -> 5506070.2
B29: =Actuals!$B19 -> Materials | D29: =Actuals!AG19 -> 681641 | E29: =Actuals!AH19 -> 746186 | F29: =Actuals!AI19 -> 866892 | G29: =Actuals!AJ19 -> 872142 | H29: =Actuals!AK19 -> 938267 | I29: =Actuals!AL19 -> 929563 | J29: =Actuals!AM19 -> 794552 | K29: =Actuals!AN19 -> 829842 | ... O29: =Actuals!AR19 -> 739897 | P29: =SUM(D29:O29) -> 10142323 | Q29: =IF(D$26=0,0,D29/D$26)*Q$26 -> 790727.93 | R29: =IF(E$26=0,0,E29/E$26)*R$26 -> 859975.65 | S29: =IF(F$26=0,0,F29/F$26)*S$26 -> 997277.49 | T29: =IF(G$26=0,0,G29/G$26)*T$26 -> 989857.91 | U29: =IF(H$26=0,0,H29/H$26)*U$26 -> 1081669.3 | V29: =IF(I$26=0,0,I29/I$26)*V$26 -> 1056255 | W29: =IF(J$26=0,0,J29/J$26)*W$26 -> 916227.84 | X29: =IF(K$26=0,0,K29/K$26)*X$26 -> 969715.69 | ... AB29: =IF(O$26=0,0,O29/O$26)*AB$26 -> 865981.61 | AC29: =SUM(Q29:AB29) -> 11665197
B30: =Actuals!$B20 -> Freight and duties | D30: =Actuals!AG20 -> 114265 | E30: =Actuals!AH20 -> 126560 | F30: =Actuals!AI20 -> 153401 | G30: =Actuals!AJ20 -> 155791 | H30: =Actuals!AK20 -> 161565 | I30: =Actuals!AL20 -> 167506 | J30: =Actuals!AM20 -> 141029 | K30: =Actuals!AN20 -> 144531 | ... O30: =Actuals!AR20 -> 134433 | P30: =SUM(D30:O30) -> 1780248 | Q30: =IF(D$26=0,0,D30/D$26)*Q$26 -> 132551.49 | R30: =IF(E$26=0,0,E30/E$26)*R$26 -> 145859.77 | S30: =IF(F$26=0,0,F30/F$26)*S$26 -> 176473.38 | T30: =IF(G$26=0,0,G30/G$26)*T$26 -> 176818.63 | U30: =IF(H$26=0,0,H30/H$26)*U$26 -> 186258.18 | V30: =IF(I$26=0,0,I30/I$26)*V$26 -> 190335.73 | W30: =IF(J$26=0,0,J30/J$26)*W$26 -> 162625.85 | X30: =IF(K$26=0,0,K30/K$26)*X$26 -> 168892.37 | ... AB30: =IF(O$26=0,0,O30/O$26)*AB$26 -> 157341.5 | AC30: =SUM(Q30:AB30) -> 2047461.2
B31: =Actuals!$B21 -> Direct labour | D31: =Actuals!AG21 -> 288954 | E31: =Actuals!AH21 -> 317783 | F31: =Actuals!AI21 -> 357922 | G31: =Actuals!AJ21 -> 396827 | H31: =Actuals!AK21 -> 396858 | I31: =Actuals!AL21 -> 378461 | J31: =Actuals!AM21 -> 347878 | K31: =Actuals!AN21 -> 364987 | ... O31: =Actuals!AR21 -> 308294 | P31: =SUM(D31:O31) -> 4359692 | Q31: =IF(D$26=0,0,D31/D$26)*Q$26 -> 335196.97 | R31: =IF(E$26=0,0,E31/E$26)*R$26 -> 366243.33 | S31: =IF(F$26=0,0,F31/F$26)*S$26 -> 411755.51 | T31: =IF(G$26=0,0,G31/G$26)*T$26 -> 450388.06 | U31: =IF(H$26=0,0,H31/H$26)*U$26 -> 457512.76 | V31: =IF(I$26=0,0,I31/I$26)*V$26 -> 430042.2 | W31: =IF(J$26=0,0,J31/J$26)*W$26 -> 401151.22 | X31: =IF(K$26=0,0,K31/K$26)*X$26 -> 426507.24 | ... AB31: =IF(O$26=0,0,O31/O$26)*AB$26 -> 360829.86 | AC31: =SUM(Q31:AB31) -> 5014455.1

Sheet Scenario 2
B1: Scenario Modeler
B2: =C6&" - top-down" -> Holiday promo: price -10%, units +25% in Nov-Dec - top-down | D2: Actual | E2: Actual | F2: Actual | G2: Actual | H2: Actual | I2: Actual | J2: Actual | K2: Actual | L2: Actual | M2: Actual | N2: Actual | O2: Actual | P2: Actual
D3: =Actuals!$AU$3 -> 2026 | E3: =Actuals!$AU$3 -> 2026 | F3: =Actuals!$AU$3 -> 2026 | G3: =Actuals!$AU$3 -> 2026 | H3: =Actuals!$AU$3 -> 2026 | I3: =Actuals!$AU$3 -> 2026 | J3: =Actuals!$AU$3 -> 2026 | K3: =Actuals!$AU$3 -> 2026 | ... O3: =Actuals!$AU$3 -> 2026 | P3: =$O$3 -> 2026 | Q3: =$D$3+1 -> 2027 | R3: =$D$3+1 -> 2027 | S3: =$D$3+1 -> 2027 | T3: =$D$3+1 -> 2027 | U3: =$D$3+1 -> 2027 | V3: =$D$3+1 -> 2027 | W3: =$D$3+1 -> 2027 | X3: =$D$3+1 -> 2027 | ... AB3: =$D$3+1 -> 2027 | AC3: =$AB$3 -> 2027
D4: Jan | E4: Feb | F4: Mar | G4: Apr | H4: May | I4: Jun | J4: Jul | K4: Aug | L4: Sep | M4: Oct | N4: Nov | O4: Dec | P4: Full Year | Q4: Jan | R4: Feb | S4: Mar | T4: Apr | U4: May | V4: Jun | W4: Jul | X4: Aug | Y4: Sep | Z4: Oct | AA4: Nov | AB4: Dec | AC4: Full Year | AD4: Comments
B6: Scenario name | C6: Holiday promo: price -10%, units +25% in Nov-Dec
B7: Description | C7: Bottom-up. Nov and Dec priced 10% below FY2026 with 25% more units; every other month and unit cost all year held at FY2026 actuals. No target set - the model predicts the gross margin outcome.
B8: Target source | C8: Not set
B9: Drivers | C9: Typed
B10: Objective | C10: Smallest change
B11: Status | C11: Bottom-up, predicted from your driver values
B13: Target
B14: =Actuals!$B$16 -> Gross Margin | D14: =Actuals!AG$16 -> 693840 | E14: =Actuals!AH$16 -> 753948 | F14: =Actuals!AI$16 -> 900360 | G14: =Actuals!AJ$16 -> 947925 | H14: =Actuals!AK$16 -> 958755 | I14: =Actuals!AL$16 -> 971210 | J14: =Actuals!AM$16 -> 832283 | K14: =Actuals!AN$16 -> 851840 | ... O14: =Actuals!AR$16 -> 740304 | P14: =SUM(D14:O14) -> 10478505 | Q14: =Q26 -> 762679.48 | R14: =R26 -> 754487.59 | S14: =S26 -> 900068.3 | T14: =T26 -> 945168 | U14: =U26 -> 958253.92 | V14: =V26 -> 968044.08 | W14: =W26 -> 833913.12 | X14: =X26 -> 853355.19 | ... AB14: =AB26 -> 715189.67 | AC14: =SUM(Q14:AB14) -> 10529593
B16: Drivers
